BEGIN:VCALENDAR
VERSION:2.0
PRODID:-//Ylistaron Helluntaiseurakunta - ECPv6.15.17.1//NONSGML v1.0//EN
CALSCALE:GREGORIAN
METHOD:PUBLISH
X-WR-CALNAME:Ylistaron Helluntaiseurakunta
X-ORIGINAL-URL:https://www.ylistaronhelluntaiseurakunta.fi
X-WR-CALDESC:Tapahtumat Ylistaron Helluntaiseurakunta
REFRESH-INTERVAL;VALUE=DURATION:PT1H
X-Robots-Tag:noindex
X-PUBLISHED-TTL:PT1H
BEGIN:VTIMEZONE
TZID:Europe/Helsinki
BEGIN:DAYLIGHT
TZOFFSETFROM:+0200
TZOFFSETTO:+0300
TZNAME:EEST
DTSTART:20250330T010000
END:DAYLIGHT
BEGIN:STANDARD
TZOFFSETFROM:+0300
TZOFFSETTO:+0200
TZNAME:EET
DTSTART:20251026T010000
END:STANDARD
BEGIN:DAYLIGHT
TZOFFSETFROM:+0200
TZOFFSETTO:+0300
TZNAME:EEST
DTSTART:20260329T010000
END:DAYLIGHT
BEGIN:STANDARD
TZOFFSETFROM:+0300
TZOFFSETTO:+0200
TZNAME:EET
DTSTART:20261025T010000
END:STANDARD
BEGIN:DAYLIGHT
TZOFFSETFROM:+0200
TZOFFSETTO:+0300
TZNAME:EEST
DTSTART:20270328T010000
END:DAYLIGHT
BEGIN:STANDARD
TZOFFSETFROM:+0300
TZOFFSETTO:+0200
TZNAME:EET
DTSTART:20271031T010000
END:STANDARD
END:VTIMEZONE
BEGIN:VEVENT
DTSTART;TZID=Europe/Helsinki:20260220T110000
DTEND;TZID=Europe/Helsinki:20260220T120000
DTSTAMP:20260422T144831
CREATED:20260202T100305Z
LAST-MODIFIED:20260202T100305Z
UID:4519-1771585200-1771588800@www.ylistaronhelluntaiseurakunta.fi
SUMMARY:Ruokajako
DESCRIPTION:Ruokajako klo 11:00 – 12:00 \nOsoitteessa: Viertolankuja 1\, Ylistaro \nTervetuloa
URL:https://www.ylistaronhelluntaiseurakunta.fi/tapahtuma/ruokajako-45/
LOCATION:Ylistaron Helluntaiseurakunta\, Viertolankuja 1\, 61400 Ylistaro\, Viertolankuja 1\, Seinäjoki
ORGANIZER;CN="Ylistaron Helluntaiseurakunta":MAILTO:info@ylistaronhelluntaiseurakunta.fi
END:VEVENT
BEGIN:VEVENT
DTSTART;TZID=Europe/Helsinki:20260220T180000
DTEND;TZID=Europe/Helsinki:20260220T200000
DTSTAMP:20260422T144831
CREATED:20260208T162937Z
LAST-MODIFIED:20260208T162937Z
UID:4537-1771610400-1771617600@www.ylistaronhelluntaiseurakunta.fi
SUMMARY:Parasta Ylistaroon tilaisuus
DESCRIPTION:Parasta Ylistaroon tilaisuus Kainaston \nnuorisoseuralla klo 18 \nOsoitteessa: Ylistarontie 520\, \n61410 Ylistaro As \nPientä puhetta suuresta Jumalasta. \nMusiikkia \nKahvitarjoilu ja pientä suolapalaa. \nTervetuloa! \n  \n 
URL:https://www.ylistaronhelluntaiseurakunta.fi/tapahtuma/parasta-ylistaroon-tilaisuus/
ORGANIZER;CN="Ylistaron Helluntaiseurakunta":MAILTO:info@ylistaronhelluntaiseurakunta.fi
END:VEVENT
END:VCALENDAR