BEGIN:VCALENDAR
VERSION:2.0
PRODID:-//Ylistaron Helluntaiseurakunta - ECPv6.15.17.1//NONSGML v1.0//EN
CALSCALE:GREGORIAN
METHOD:PUBLISH
X-ORIGINAL-URL:https://www.ylistaronhelluntaiseurakunta.fi
X-WR-CALDESC:Tapahtumat Ylistaron Helluntaiseurakunta
REFRESH-INTERVAL;VALUE=DURATION:PT1H
X-Robots-Tag:noindex
X-PUBLISHED-TTL:PT1H
BEGIN:VTIMEZONE
TZID:Europe/Helsinki
BEGIN:DAYLIGHT
TZOFFSETFROM:+0200
TZOFFSETTO:+0300
TZNAME:EEST
DTSTART:20250330T010000
END:DAYLIGHT
BEGIN:STANDARD
TZOFFSETFROM:+0300
TZOFFSETTO:+0200
TZNAME:EET
DTSTART:20251026T010000
END:STANDARD
BEGIN:DAYLIGHT
TZOFFSETFROM:+0200
TZOFFSETTO:+0300
TZNAME:EEST
DTSTART:20260329T010000
END:DAYLIGHT
BEGIN:STANDARD
TZOFFSETFROM:+0300
TZOFFSETTO:+0200
TZNAME:EET
DTSTART:20261025T010000
END:STANDARD
BEGIN:DAYLIGHT
TZOFFSETFROM:+0200
TZOFFSETTO:+0300
TZNAME:EEST
DTSTART:20270328T010000
END:DAYLIGHT
BEGIN:STANDARD
TZOFFSETFROM:+0300
TZOFFSETTO:+0200
TZNAME:EET
DTSTART:20271031T010000
END:STANDARD
END:VTIMEZONE
BEGIN:VEVENT
DTSTART;TZID=Europe/Helsinki:20260227T180000
DTEND;TZID=Europe/Helsinki:20260227T200000
DTSTAMP:20260422T132230
CREATED:20260122T185458Z
LAST-MODIFIED:20260122T185458Z
UID:4490-1772215200-1772222400@www.ylistaronhelluntaiseurakunta.fi
SUMMARY:Sapattiateria
DESCRIPTION:Sapattiateria klo 18. \nPuhe: Risto Kujala \nMusiikissa: Maija – Liisa Noppa \nRuoan valmistaa Tarja Kärkkäinen Jyväskylästä. \nAterian hinta 20e (lapset alle 10v: 10e) \nIlmoittautumiset 23.2. mennessä: \nSoile Ojanperä Puh. 040-9391077 \nsähköposti: soile.ojanpera24@gmail.com \nTervetuloa!
URL:https://www.ylistaronhelluntaiseurakunta.fi/tapahtuma/sapattiateria/
LOCATION:Ylistaron Helluntaiseurakunta\, Viertolankuja 1\, 61400 Ylistaro\, Viertolankuja 1\, Seinäjoki
ORGANIZER;CN="Ylistaron Helluntaiseurakunta":MAILTO:info@ylistaronhelluntaiseurakunta.fi
END:VEVENT
END:VCALENDAR