BEGIN:VCALENDAR
VERSION:2.0
PRODID:-//Ylistaron Helluntaiseurakunta - ECPv6.15.17.1//NONSGML v1.0//EN
CALSCALE:GREGORIAN
METHOD:PUBLISH
X-WR-CALNAME:Ylistaron Helluntaiseurakunta
X-ORIGINAL-URL:https://www.ylistaronhelluntaiseurakunta.fi
X-WR-CALDESC:Tapahtumat Ylistaron Helluntaiseurakunta
REFRESH-INTERVAL;VALUE=DURATION:PT1H
X-Robots-Tag:noindex
X-PUBLISHED-TTL:PT1H
BEGIN:VTIMEZONE
TZID:Europe/Helsinki
BEGIN:DAYLIGHT
TZOFFSETFROM:+0200
TZOFFSETTO:+0300
TZNAME:EEST
DTSTART:20250330T010000
END:DAYLIGHT
BEGIN:STANDARD
TZOFFSETFROM:+0300
TZOFFSETTO:+0200
TZNAME:EET
DTSTART:20251026T010000
END:STANDARD
BEGIN:DAYLIGHT
TZOFFSETFROM:+0200
TZOFFSETTO:+0300
TZNAME:EEST
DTSTART:20260329T010000
END:DAYLIGHT
BEGIN:STANDARD
TZOFFSETFROM:+0300
TZOFFSETTO:+0200
TZNAME:EET
DTSTART:20261025T010000
END:STANDARD
BEGIN:DAYLIGHT
TZOFFSETFROM:+0200
TZOFFSETTO:+0300
TZNAME:EEST
DTSTART:20270328T010000
END:DAYLIGHT
BEGIN:STANDARD
TZOFFSETFROM:+0300
TZOFFSETTO:+0200
TZNAME:EET
DTSTART:20271031T010000
END:STANDARD
END:VTIMEZONE
BEGIN:VEVENT
DTSTART;TZID=Europe/Helsinki:20260302T090000
DTEND;TZID=Europe/Helsinki:20260306T190000
DTSTAMP:20260422T132144
CREATED:20260301T083635Z
LAST-MODIFIED:20260301T083635Z
UID:4573-1772442000-1772823600@www.ylistaronhelluntaiseurakunta.fi
SUMMARY:Paasto ja rukousviikko
DESCRIPTION:Paasto ja rukousviikko 2. – 6. 3. \nRukousaiheena mm Jumalan johdatus ja \nvoitot hengenmaailmoissa. \nPastori Martti Nyström paikalla joka päivä 2. – 6. 3. klo 9 – 19. \n”Tervetuloa osallistumaan\, vaikka lyhyeksikin aikaa aikataulusi mukaan. \nJos koet\, että voit paastota\, niin hyvä. \nVoit osallistua\, vaikka et paastoaisikaan.t Masa”
URL:https://www.ylistaronhelluntaiseurakunta.fi/tapahtuma/paasto-ja-rukousviikko/
LOCATION:Ylistaron Helluntaiseurakunta\, Viertolankuja 1\, 61400 Ylistaro\, Viertolankuja 1\, Seinäjoki
ORGANIZER;CN="Ylistaron Helluntaiseurakunta":MAILTO:info@ylistaronhelluntaiseurakunta.fi
END:VEVENT
BEGIN:VEVENT
DTSTART;TZID=Europe/Helsinki:20260306T110000
DTEND;TZID=Europe/Helsinki:20260306T120000
DTSTAMP:20260422T132144
CREATED:20260301T060157Z
LAST-MODIFIED:20260301T060327Z
UID:4562-1772794800-1772798400@www.ylistaronhelluntaiseurakunta.fi
SUMMARY:Ruokajako
DESCRIPTION:Ruokajako klo 11:00 – 12:00 \nOsoitteessa: Viertolankuja 1\, Ylistaro \nTervetuloa
URL:https://www.ylistaronhelluntaiseurakunta.fi/tapahtuma/ruokajako-46/
LOCATION:Ylistaron Helluntaiseurakunta\, Viertolankuja 1\, 61400 Ylistaro\, Viertolankuja 1\, Seinäjoki
ORGANIZER;CN="Ylistaron Helluntaiseurakunta":MAILTO:info@ylistaronhelluntaiseurakunta.fi
END:VEVENT
END:VCALENDAR