BEGIN:VCALENDAR
VERSION:2.0
PRODID:-//Ylistaron Helluntaiseurakunta - ECPv6.15.17.1//NONSGML v1.0//EN
CALSCALE:GREGORIAN
METHOD:PUBLISH
X-ORIGINAL-URL:https://www.ylistaronhelluntaiseurakunta.fi
X-WR-CALDESC:Tapahtumat Ylistaron Helluntaiseurakunta
REFRESH-INTERVAL;VALUE=DURATION:PT1H
X-Robots-Tag:noindex
X-PUBLISHED-TTL:PT1H
BEGIN:VTIMEZONE
TZID:Europe/Helsinki
BEGIN:DAYLIGHT
TZOFFSETFROM:+0200
TZOFFSETTO:+0300
TZNAME:EEST
DTSTART:20250330T010000
END:DAYLIGHT
BEGIN:STANDARD
TZOFFSETFROM:+0300
TZOFFSETTO:+0200
TZNAME:EET
DTSTART:20251026T010000
END:STANDARD
BEGIN:DAYLIGHT
TZOFFSETFROM:+0200
TZOFFSETTO:+0300
TZNAME:EEST
DTSTART:20260329T010000
END:DAYLIGHT
BEGIN:STANDARD
TZOFFSETFROM:+0300
TZOFFSETTO:+0200
TZNAME:EET
DTSTART:20261025T010000
END:STANDARD
BEGIN:DAYLIGHT
TZOFFSETFROM:+0200
TZOFFSETTO:+0300
TZNAME:EEST
DTSTART:20270328T010000
END:DAYLIGHT
BEGIN:STANDARD
TZOFFSETFROM:+0300
TZOFFSETTO:+0200
TZNAME:EET
DTSTART:20271031T010000
END:STANDARD
END:VTIMEZONE
BEGIN:VEVENT
DTSTART;TZID=Europe/Helsinki:20260416T180000
DTEND;TZID=Europe/Helsinki:20260416T200000
DTSTAMP:20260422T114858
CREATED:20260331T050930Z
LAST-MODIFIED:20260409T193636Z
UID:4654-1776362400-1776369600@www.ylistaronhelluntaiseurakunta.fi
SUMMARY:Rukouksen ja Sanan ilta
DESCRIPTION:Rukouksen ja Sanan ilta klo 18 \nMukana Kalevi Hautala ja Markus Uusitalo \nPuhe: Kalevi Hautala \nPuheen teema: Ylistyksen esteet \nYlistysmusiikki: Markus Uusitalo \nViertolankuja 1\, 61400 Ylistaro \nTervetuloa!
URL:https://www.ylistaronhelluntaiseurakunta.fi/tapahtuma/rukouksen-ja-sanan-ilta-51/
LOCATION:Ylistaron Helluntaiseurakunta\, Viertolankuja 1\, 61400 Ylistaro\, Viertolankuja 1\, Seinäjoki
ORGANIZER;CN="Ylistaron Helluntaiseurakunta":MAILTO:info@ylistaronhelluntaiseurakunta.fi
END:VEVENT
END:VCALENDAR