BEGIN:VCALENDAR
VERSION:2.0
PRODID:-//Ylistaron Helluntaiseurakunta - ECPv6.15.17.1//NONSGML v1.0//EN
CALSCALE:GREGORIAN
METHOD:PUBLISH
X-WR-CALNAME:Ylistaron Helluntaiseurakunta
X-ORIGINAL-URL:https://www.ylistaronhelluntaiseurakunta.fi
X-WR-CALDESC:Tapahtumat Ylistaron Helluntaiseurakunta
REFRESH-INTERVAL;VALUE=DURATION:PT1H
X-Robots-Tag:noindex
X-PUBLISHED-TTL:PT1H
BEGIN:VTIMEZONE
TZID:Europe/Helsinki
BEGIN:DAYLIGHT
TZOFFSETFROM:+0200
TZOFFSETTO:+0300
TZNAME:EEST
DTSTART:20250330T010000
END:DAYLIGHT
BEGIN:STANDARD
TZOFFSETFROM:+0300
TZOFFSETTO:+0200
TZNAME:EET
DTSTART:20251026T010000
END:STANDARD
BEGIN:DAYLIGHT
TZOFFSETFROM:+0200
TZOFFSETTO:+0300
TZNAME:EEST
DTSTART:20260329T010000
END:DAYLIGHT
BEGIN:STANDARD
TZOFFSETFROM:+0300
TZOFFSETTO:+0200
TZNAME:EET
DTSTART:20261025T010000
END:STANDARD
BEGIN:DAYLIGHT
TZOFFSETFROM:+0200
TZOFFSETTO:+0300
TZNAME:EEST
DTSTART:20270328T010000
END:DAYLIGHT
BEGIN:STANDARD
TZOFFSETFROM:+0300
TZOFFSETTO:+0200
TZNAME:EET
DTSTART:20271031T010000
END:STANDARD
END:VTIMEZONE
BEGIN:VEVENT
DTSTART;TZID=Europe/Helsinki:20260101T180000
DTEND;TZID=Europe/Helsinki:20260101T200000
DTSTAMP:20260422T145407
CREATED:20251223T055507Z
LAST-MODIFIED:20251223T055719Z
UID:4418-1767290400-1767297600@www.ylistaronhelluntaiseurakunta.fi
SUMMARY:Uuden vuoden tilaisuus
DESCRIPTION:Uuden vuoden tilaisuus klo 18 \nMukana Kirsi Nyrhinen ja Pia Lind \nOsoitteessa: Kaukolanraitti 7 \nTervetuloa!
URL:https://www.ylistaronhelluntaiseurakunta.fi/tapahtuma/uuden-vuoden-tilaisuus/
LOCATION:Ylistaron Helluntaiseurakunta\, Viertolankuja 1\, 61400 Ylistaro\, Viertolankuja 1\, Seinäjoki
ORGANIZER;CN="Ylistaron Helluntaiseurakunta":MAILTO:info@ylistaronhelluntaiseurakunta.fi
END:VEVENT
BEGIN:VEVENT
DTSTART;TZID=Europe/Helsinki:20260104T120000
DTEND;TZID=Europe/Helsinki:20260104T140000
DTSTAMP:20260422T145407
CREATED:20251202T120449Z
LAST-MODIFIED:20251223T060059Z
UID:4392-1767528000-1767535200@www.ylistaronhelluntaiseurakunta.fi
SUMMARY:Päivätilaisuus
DESCRIPTION:Päivätilaisuus klo 12:00 \nPuhe Jari Vihreäniitty \nJohtaa Soile Ojanperä \nOsoitteessa: Viertolankuja 1\, 61400 Ylistaro \nTervetuloa!
URL:https://www.ylistaronhelluntaiseurakunta.fi/tapahtuma/ehtoollisjuhla-10/
LOCATION:Ylistaron Helluntaiseurakunta\, Viertolankuja 1\, 61400 Ylistaro\, Viertolankuja 1\, Seinäjoki
ORGANIZER;CN="Ylistaron Helluntaiseurakunta":MAILTO:info@ylistaronhelluntaiseurakunta.fi
END:VEVENT
BEGIN:VEVENT
DTSTART;TZID=Europe/Helsinki:20260106T180000
DTEND;TZID=Europe/Helsinki:20260106T200000
DTSTAMP:20260422T145407
CREATED:20251216T090246Z
LAST-MODIFIED:20251216T090246Z
UID:4402-1767722400-1767729600@www.ylistaronhelluntaiseurakunta.fi
SUMMARY:Rukousilta
DESCRIPTION:Rukousilta klo 18 \nOsoitteessa: Viertolankuja 1\, Ylistaro \nTervetuloa!
URL:https://www.ylistaronhelluntaiseurakunta.fi/tapahtuma/rukousilta-47/
LOCATION:Ylistaron Helluntaiseurakunta\, Viertolankuja 1\, 61400 Ylistaro\, Viertolankuja 1\, Seinäjoki
ORGANIZER;CN="Ylistaron Helluntaiseurakunta":MAILTO:info@ylistaronhelluntaiseurakunta.fi
END:VEVENT
BEGIN:VEVENT
DTSTART;TZID=Europe/Helsinki:20260108T180000
DTEND;TZID=Europe/Helsinki:20260108T200000
DTSTAMP:20260422T145407
CREATED:20251216T090347Z
LAST-MODIFIED:20251216T090347Z
UID:4404-1767895200-1767902400@www.ylistaronhelluntaiseurakunta.fi
SUMMARY:Rukouksen ja Sanan ilta
DESCRIPTION:Rukouksen ja Sanan ilta klo 18 \nViertolankuja 1\, 61400 Ylistaro \nTervetuloa!
URL:https://www.ylistaronhelluntaiseurakunta.fi/tapahtuma/rukouksen-ja-sanan-ilta-41/
LOCATION:Ylistaron Helluntaiseurakunta\, Viertolankuja 1\, 61400 Ylistaro\, Viertolankuja 1\, Seinäjoki
ORGANIZER;CN="Ylistaron Helluntaiseurakunta":MAILTO:info@ylistaronhelluntaiseurakunta.fi
END:VEVENT
BEGIN:VEVENT
DTSTART;TZID=Europe/Helsinki:20260109T110000
DTEND;TZID=Europe/Helsinki:20260109T120000
DTSTAMP:20260422T145407
CREATED:20260108T083742Z
LAST-MODIFIED:20260108T083742Z
UID:4454-1767956400-1767960000@www.ylistaronhelluntaiseurakunta.fi
SUMMARY:Ruokajako
DESCRIPTION:Ruokajako klo 11:00 – 12:00 \nOsoitteessa: Viertolankuja 1\, Ylistaro \nTervetuloa
URL:https://www.ylistaronhelluntaiseurakunta.fi/tapahtuma/ruokajako-39/
LOCATION:Ylistaron Helluntaiseurakunta\, Viertolankuja 1\, 61400 Ylistaro\, Viertolankuja 1\, Seinäjoki
ORGANIZER;CN="Ylistaron Helluntaiseurakunta":MAILTO:info@ylistaronhelluntaiseurakunta.fi
END:VEVENT
BEGIN:VEVENT
DTSTART;TZID=Europe/Helsinki:20260110T200000
DTEND;TZID=Europe/Helsinki:20260110T220000
DTSTAMP:20260422T145407
CREATED:20251216T091421Z
LAST-MODIFIED:20251228T090618Z
UID:4409-1768075200-1768082400@www.ylistaronhelluntaiseurakunta.fi
SUMMARY:Stage nuortenilta
DESCRIPTION:Stage nuortenilta klo 20 \nKaukolanraitti 7\, 61400 Ylistaro \nTervetuloa!
URL:https://www.ylistaronhelluntaiseurakunta.fi/tapahtuma/stage-nuortenilta-9/
LOCATION:Ylistaron Helluntaiseurakunta\, Viertolankuja 1\, 61400 Ylistaro\, Viertolankuja 1\, Seinäjoki
ORGANIZER;CN="Ylistaron Helluntaiseurakunta":MAILTO:info@ylistaronhelluntaiseurakunta.fi
END:VEVENT
BEGIN:VEVENT
DTSTART;TZID=Europe/Helsinki:20260111T170000
DTEND;TZID=Europe/Helsinki:20260111T190000
DTSTAMP:20260422T145407
CREATED:20251216T090454Z
LAST-MODIFIED:20260108T082013Z
UID:4406-1768150800-1768158000@www.ylistaronhelluntaiseurakunta.fi
SUMMARY:Ehtoollisjuhla
DESCRIPTION:Ehtoollisjuhla klo 17:00 \nPuhe: Martti Falck \nJohtaa Juha Jokinen \nOsoite: Viertolankuja 1\, 61400 Ylistaro \nTervetuloa!
URL:https://www.ylistaronhelluntaiseurakunta.fi/tapahtuma/paivatilaisuus-33/
LOCATION:Ylistaron Helluntaiseurakunta\, Viertolankuja 1\, 61400 Ylistaro\, Viertolankuja 1\, Seinäjoki
ORGANIZER;CN="Ylistaron Helluntaiseurakunta":MAILTO:info@ylistaronhelluntaiseurakunta.fi
END:VEVENT
BEGIN:VEVENT
DTSTART;TZID=Europe/Helsinki:20260113T180000
DTEND;TZID=Europe/Helsinki:20260113T200000
DTSTAMP:20260422T145407
CREATED:20251228T083947Z
LAST-MODIFIED:20251228T083947Z
UID:4431-1768327200-1768334400@www.ylistaronhelluntaiseurakunta.fi
SUMMARY:Rukousilta
DESCRIPTION:Rukousilta klo 18 \nOsoitteessa: Viertolankuja 1\, Ylistaro \nTervetuloa!
URL:https://www.ylistaronhelluntaiseurakunta.fi/tapahtuma/rukousilta-48/
LOCATION:Ylistaron Helluntaiseurakunta\, Viertolankuja 1\, 61400 Ylistaro\, Viertolankuja 1\, Seinäjoki
ORGANIZER;CN="Ylistaron Helluntaiseurakunta":MAILTO:info@ylistaronhelluntaiseurakunta.fi
END:VEVENT
BEGIN:VEVENT
DTSTART;TZID=Europe/Helsinki:20260115T180000
DTEND;TZID=Europe/Helsinki:20260115T200000
DTSTAMP:20260422T145407
CREATED:20251228T084200Z
LAST-MODIFIED:20251228T084200Z
UID:4435-1768500000-1768507200@www.ylistaronhelluntaiseurakunta.fi
SUMMARY:Rukouksen ja Sanan ilta
DESCRIPTION:Rukouksen ja Sanan ilta klo 18 \nViertolankuja 1\, 61400 Ylistaro \nTervetuloa!
URL:https://www.ylistaronhelluntaiseurakunta.fi/tapahtuma/rukouksen-ja-sanan-ilta-42/
LOCATION:Ylistaron Helluntaiseurakunta\, Viertolankuja 1\, 61400 Ylistaro\, Viertolankuja 1\, Seinäjoki
ORGANIZER;CN="Ylistaron Helluntaiseurakunta":MAILTO:info@ylistaronhelluntaiseurakunta.fi
END:VEVENT
BEGIN:VEVENT
DTSTART;TZID=Europe/Helsinki:20260116T110000
DTEND;TZID=Europe/Helsinki:20260116T120000
DTSTAMP:20260422T145407
CREATED:20260108T083912Z
LAST-MODIFIED:20260108T083912Z
UID:4456-1768561200-1768564800@www.ylistaronhelluntaiseurakunta.fi
SUMMARY:Ruokajako
DESCRIPTION:Ruokajako klo 11:00 – 12:00 \nOsoitteessa: Viertolankuja 1\, Ylistaro \nTervetuloa
URL:https://www.ylistaronhelluntaiseurakunta.fi/tapahtuma/ruokajako-40/
LOCATION:Ylistaron Helluntaiseurakunta\, Viertolankuja 1\, 61400 Ylistaro\, Viertolankuja 1\, Seinäjoki
ORGANIZER;CN="Ylistaron Helluntaiseurakunta":MAILTO:info@ylistaronhelluntaiseurakunta.fi
END:VEVENT
BEGIN:VEVENT
DTSTART;TZID=Europe/Helsinki:20260118T120000
DTEND;TZID=Europe/Helsinki:20260118T140000
DTSTAMP:20260422T145407
CREATED:20251228T084844Z
LAST-MODIFIED:20251228T084844Z
UID:4439-1768737600-1768744800@www.ylistaronhelluntaiseurakunta.fi
SUMMARY:Israel tilaisuus
DESCRIPTION:Israel tilaisuus klo 12:00 \nMukana Anna Leena ja Ari Ristimäki \nJohtaa Soile Ojanperä \nOsoitteessa: Viertolankuja 1\, 61400 Ylistaro \nTervetuloa!
URL:https://www.ylistaronhelluntaiseurakunta.fi/tapahtuma/israel-tilaisuus/
LOCATION:Ylistaron Helluntaiseurakunta\, Viertolankuja 1\, 61400 Ylistaro\, Viertolankuja 1\, Seinäjoki
ORGANIZER;CN="Ylistaron Helluntaiseurakunta":MAILTO:info@ylistaronhelluntaiseurakunta.fi
END:VEVENT
BEGIN:VEVENT
DTSTART;TZID=Europe/Helsinki:20260120T180000
DTEND;TZID=Europe/Helsinki:20260120T200000
DTSTAMP:20260422T145407
CREATED:20251228T084044Z
LAST-MODIFIED:20260119T084417Z
UID:4433-1768932000-1768939200@www.ylistaronhelluntaiseurakunta.fi
SUMMARY:Rukousilta
DESCRIPTION:Rukousilta klo 18 \nMukana Pekka ja Helena Kärkkäinen. \nOsoitteessa: Viertolankuja 1\, Ylistaro. \nTervetuloa!
URL:https://www.ylistaronhelluntaiseurakunta.fi/tapahtuma/rukousilta-49/
LOCATION:Ylistaron Helluntaiseurakunta\, Viertolankuja 1\, 61400 Ylistaro\, Viertolankuja 1\, Seinäjoki
ORGANIZER;CN="Ylistaron Helluntaiseurakunta":MAILTO:info@ylistaronhelluntaiseurakunta.fi
END:VEVENT
BEGIN:VEVENT
DTSTART;TZID=Europe/Helsinki:20260122T180000
DTEND;TZID=Europe/Helsinki:20260122T200000
DTSTAMP:20260422T145407
CREATED:20251228T084257Z
LAST-MODIFIED:20260119T084457Z
UID:4437-1769104800-1769112000@www.ylistaronhelluntaiseurakunta.fi
SUMMARY:Rukouksen ja Sanan ilta
DESCRIPTION:Rukouksen ja Sanan ilta klo 18 \nMukana Pekka ja Helena Kärkkäinen. \nViertolankuja 1\, 61400 Ylistaro \nTervetuloa!
URL:https://www.ylistaronhelluntaiseurakunta.fi/tapahtuma/rukouksen-ja-sanan-ilta-43/
LOCATION:Ylistaron Helluntaiseurakunta\, Viertolankuja 1\, 61400 Ylistaro\, Viertolankuja 1\, Seinäjoki
ORGANIZER;CN="Ylistaron Helluntaiseurakunta":MAILTO:info@ylistaronhelluntaiseurakunta.fi
END:VEVENT
BEGIN:VEVENT
DTSTART;TZID=Europe/Helsinki:20260123T110000
DTEND;TZID=Europe/Helsinki:20260123T120000
DTSTAMP:20260422T145407
CREATED:20260108T084000Z
LAST-MODIFIED:20260108T084000Z
UID:4458-1769166000-1769169600@www.ylistaronhelluntaiseurakunta.fi
SUMMARY:Ruokajako
DESCRIPTION:Ruokajako klo 11:00 – 12:00 \nOsoitteessa: Viertolankuja 1\, Ylistaro \nTervetuloa
URL:https://www.ylistaronhelluntaiseurakunta.fi/tapahtuma/ruokajako-41/
LOCATION:Ylistaron Helluntaiseurakunta\, Viertolankuja 1\, 61400 Ylistaro\, Viertolankuja 1\, Seinäjoki
ORGANIZER;CN="Ylistaron Helluntaiseurakunta":MAILTO:info@ylistaronhelluntaiseurakunta.fi
END:VEVENT
BEGIN:VEVENT
DTSTART;TZID=Europe/Helsinki:20260124T200000
DTEND;TZID=Europe/Helsinki:20260124T220000
DTSTAMP:20260422T145407
CREATED:20260119T075221Z
LAST-MODIFIED:20260119T075221Z
UID:4465-1769284800-1769292000@www.ylistaronhelluntaiseurakunta.fi
SUMMARY:Stage nuortenilta
DESCRIPTION:Stage nuortenilta klo 20 \nKaukolanraitti 7\, 61400 Ylistaro \nTervetuloa!
URL:https://www.ylistaronhelluntaiseurakunta.fi/tapahtuma/stage-nuortenilta-7/
LOCATION:Ylistaron Helluntaiseurakunta\, Viertolankuja 1\, 61400 Ylistaro\, Viertolankuja 1\, Seinäjoki
ORGANIZER;CN="Ylistaron Helluntaiseurakunta":MAILTO:info@ylistaronhelluntaiseurakunta.fi
END:VEVENT
BEGIN:VEVENT
DTSTART;TZID=Europe/Helsinki:20260125T120000
DTEND;TZID=Europe/Helsinki:20260125T140000
DTSTAMP:20260422T145407
CREATED:20251228T085807Z
LAST-MODIFIED:20260116T043203Z
UID:4447-1769342400-1769349600@www.ylistaronhelluntaiseurakunta.fi
SUMMARY:Päivätilaisuus
DESCRIPTION:Päivätilaisuus klo 12:00 \nPuhe: Martti Nyström \nJohtaa Pekka Väätäinen \nOsoitteessa: Viertolankuja 1\, 61400 Ylistaro \nTervetuloa!
URL:https://www.ylistaronhelluntaiseurakunta.fi/tapahtuma/paivatilaisuus-34/
LOCATION:Ylistaron Helluntaiseurakunta\, Viertolankuja 1\, 61400 Ylistaro\, Viertolankuja 1\, Seinäjoki
ORGANIZER;CN="Ylistaron Helluntaiseurakunta":MAILTO:info@ylistaronhelluntaiseurakunta.fi
END:VEVENT
BEGIN:VEVENT
DTSTART;TZID=Europe/Helsinki:20260127T180000
DTEND;TZID=Europe/Helsinki:20260127T200000
DTSTAMP:20260422T145407
CREATED:20251228T085116Z
LAST-MODIFIED:20251228T085116Z
UID:4441-1769536800-1769544000@www.ylistaronhelluntaiseurakunta.fi
SUMMARY:Lähetysrukousilta
DESCRIPTION:Lähetysrukousilta klo 18 \nOsoitteessa: Viertolankuja 1\, Ylistaro \nTervetuloa!
URL:https://www.ylistaronhelluntaiseurakunta.fi/tapahtuma/lahetysrukousilta-10/
LOCATION:Ylistaron Helluntaiseurakunta\, Viertolankuja 1\, 61400 Ylistaro\, Viertolankuja 1\, Seinäjoki
ORGANIZER;CN="Ylistaron Helluntaiseurakunta":MAILTO:info@ylistaronhelluntaiseurakunta.fi
END:VEVENT
BEGIN:VEVENT
DTSTART;TZID=Europe/Helsinki:20260129T180000
DTEND;TZID=Europe/Helsinki:20260129T200000
DTSTAMP:20260422T145407
CREATED:20251228T085226Z
LAST-MODIFIED:20260122T183046Z
UID:4443-1769709600-1769716800@www.ylistaronhelluntaiseurakunta.fi
SUMMARY:Rukouksen ja Sanan ilta
DESCRIPTION:Rukouksen ja Sanan ilta klo 18 \nMukana Mauri Pelkkikangas Seinäjoelta ja Kärkkäiset. \nViertolankuja 1\, 61400 Ylistaro \nTervetuloa!
URL:https://www.ylistaronhelluntaiseurakunta.fi/tapahtuma/rukouksen-ja-sanan-ilta-44/
LOCATION:Ylistaron Helluntaiseurakunta\, Viertolankuja 1\, 61400 Ylistaro\, Viertolankuja 1\, Seinäjoki
ORGANIZER;CN="Ylistaron Helluntaiseurakunta":MAILTO:info@ylistaronhelluntaiseurakunta.fi
END:VEVENT
BEGIN:VEVENT
DTSTART;TZID=Europe/Helsinki:20260130T110000
DTEND;TZID=Europe/Helsinki:20260130T120000
DTSTAMP:20260422T145407
CREATED:20260108T084021Z
LAST-MODIFIED:20260108T084059Z
UID:4460-1769770800-1769774400@www.ylistaronhelluntaiseurakunta.fi
SUMMARY:Ruokajako
DESCRIPTION:Ruokajako klo 11:00 – 12:00 \nOsoitteessa: Viertolankuja 1\, Ylistaro \nTervetuloa
URL:https://www.ylistaronhelluntaiseurakunta.fi/tapahtuma/ruokajako-42/
LOCATION:Ylistaron Helluntaiseurakunta\, Viertolankuja 1\, 61400 Ylistaro\, Viertolankuja 1\, Seinäjoki
ORGANIZER;CN="Ylistaron Helluntaiseurakunta":MAILTO:info@ylistaronhelluntaiseurakunta.fi
END:VEVENT
BEGIN:VEVENT
DTSTART;TZID=Europe/Helsinki:20260131T200000
DTEND;TZID=Europe/Helsinki:20260131T220000
DTSTAMP:20260422T145407
CREATED:20260119T084243Z
LAST-MODIFIED:20260119T084243Z
UID:4469-1769889600-1769896800@www.ylistaronhelluntaiseurakunta.fi
SUMMARY:Stage nuortenilta
DESCRIPTION:Stage nuortenilta klo 20 \nKaukolanraitti 7\, 61400 Ylistaro \nTervetuloa!
URL:https://www.ylistaronhelluntaiseurakunta.fi/tapahtuma/stage-nuortenilta-8/
LOCATION:Ylistaron Helluntaiseurakunta\, Viertolankuja 1\, 61400 Ylistaro\, Viertolankuja 1\, Seinäjoki
ORGANIZER;CN="Ylistaron Helluntaiseurakunta":MAILTO:info@ylistaronhelluntaiseurakunta.fi
END:VEVENT
END:VCALENDAR