BEGIN:VCALENDAR
VERSION:2.0
PRODID:-//Ylistaron Helluntaiseurakunta - ECPv6.15.17.1//NONSGML v1.0//EN
CALSCALE:GREGORIAN
METHOD:PUBLISH
X-WR-CALNAME:Ylistaron Helluntaiseurakunta
X-ORIGINAL-URL:https://www.ylistaronhelluntaiseurakunta.fi
X-WR-CALDESC:Tapahtumat Ylistaron Helluntaiseurakunta
REFRESH-INTERVAL;VALUE=DURATION:PT1H
X-Robots-Tag:noindex
X-PUBLISHED-TTL:PT1H
BEGIN:VTIMEZONE
TZID:Europe/Helsinki
BEGIN:DAYLIGHT
TZOFFSETFROM:+0200
TZOFFSETTO:+0300
TZNAME:EEST
DTSTART:20250330T010000
END:DAYLIGHT
BEGIN:STANDARD
TZOFFSETFROM:+0300
TZOFFSETTO:+0200
TZNAME:EET
DTSTART:20251026T010000
END:STANDARD
BEGIN:DAYLIGHT
TZOFFSETFROM:+0200
TZOFFSETTO:+0300
TZNAME:EEST
DTSTART:20260329T010000
END:DAYLIGHT
BEGIN:STANDARD
TZOFFSETFROM:+0300
TZOFFSETTO:+0200
TZNAME:EET
DTSTART:20261025T010000
END:STANDARD
BEGIN:DAYLIGHT
TZOFFSETFROM:+0200
TZOFFSETTO:+0300
TZNAME:EEST
DTSTART:20270328T010000
END:DAYLIGHT
BEGIN:STANDARD
TZOFFSETFROM:+0300
TZOFFSETTO:+0200
TZNAME:EET
DTSTART:20271031T010000
END:STANDARD
END:VTIMEZONE
BEGIN:VEVENT
DTSTART;TZID=Europe/Helsinki:20260423T180000
DTEND;TZID=Europe/Helsinki:20260423T200000
DTSTAMP:20260422T091207
CREATED:20260331T062950Z
LAST-MODIFIED:20260331T062950Z
UID:4667-1776967200-1776974400@www.ylistaronhelluntaiseurakunta.fi
SUMMARY:Rukouksen ja Sanan ilta
DESCRIPTION:Rukouksen ja Sanan ilta klo 18 \nViertolankuja 1\, 61400 Ylistaro \nTervetuloa!
URL:https://www.ylistaronhelluntaiseurakunta.fi/tapahtuma/rukouksen-ja-sanan-ilta-52/
LOCATION:Ylistaron Helluntaiseurakunta\, Viertolankuja 1\, 61400 Ylistaro\, Viertolankuja 1\, Seinäjoki
ORGANIZER;CN="Ylistaron Helluntaiseurakunta":MAILTO:info@ylistaronhelluntaiseurakunta.fi
END:VEVENT
BEGIN:VEVENT
DTSTART;TZID=Europe/Helsinki:20260424T110000
DTEND;TZID=Europe/Helsinki:20260424T120000
DTSTAMP:20260422T091207
CREATED:20260331T063123Z
LAST-MODIFIED:20260331T063123Z
UID:4669-1777028400-1777032000@www.ylistaronhelluntaiseurakunta.fi
SUMMARY:Ruokajako
DESCRIPTION:Ruokajako klo 11:00 – 12:00 \nOsoitteessa: Viertolankuja 1\, Ylistaro \nTervetuloa
URL:https://www.ylistaronhelluntaiseurakunta.fi/tapahtuma/ruokajako-52/
LOCATION:Ylistaron Helluntaiseurakunta\, Viertolankuja 1\, 61400 Ylistaro\, Viertolankuja 1\, Seinäjoki
ORGANIZER;CN="Ylistaron Helluntaiseurakunta":MAILTO:info@ylistaronhelluntaiseurakunta.fi
END:VEVENT
BEGIN:VEVENT
DTSTART;TZID=Europe/Helsinki:20260425T200000
DTEND;TZID=Europe/Helsinki:20260425T220000
DTSTAMP:20260422T091207
CREATED:20260331T063602Z
LAST-MODIFIED:20260331T063602Z
UID:4671-1777147200-1777154400@www.ylistaronhelluntaiseurakunta.fi
SUMMARY:Stage nuortenilta
DESCRIPTION:Stage nuortenilta klo 20 \nKaukolanraitti 7\, 61400 Ylistaro \nTervetuloa!
URL:https://www.ylistaronhelluntaiseurakunta.fi/tapahtuma/stage-nuortenilta-17/
LOCATION:Ylistaron Helluntaiseurakunta\, Viertolankuja 1\, 61400 Ylistaro\, Viertolankuja 1\, Seinäjoki
ORGANIZER;CN="Ylistaron Helluntaiseurakunta":MAILTO:info@ylistaronhelluntaiseurakunta.fi
END:VEVENT
BEGIN:VEVENT
DTSTART;TZID=Europe/Helsinki:20260426T120000
DTEND;TZID=Europe/Helsinki:20260426T140000
DTSTAMP:20260422T091207
CREATED:20260331T063959Z
LAST-MODIFIED:20260406T103212Z
UID:4673-1777204800-1777212000@www.ylistaronhelluntaiseurakunta.fi
SUMMARY:Päivätilaisuus
DESCRIPTION:Päivätilaisuus klo 12:00 \nMukana Risto ja Diana Tammik \nPuhe: Diana Tammik \nJuonto: Juha Jokinen \nMusiikissa Vaimojen ääni \nOsoitteessa: Viertolankuja 1\, 61400 Ylistaro \nTervetuloa!
URL:https://www.ylistaronhelluntaiseurakunta.fi/tapahtuma/paivatilaisuus-44/
LOCATION:Ylistaron Helluntaiseurakunta\, Viertolankuja 1\, 61400 Ylistaro\, Viertolankuja 1\, Seinäjoki
ORGANIZER;CN="Ylistaron Helluntaiseurakunta":MAILTO:info@ylistaronhelluntaiseurakunta.fi
END:VEVENT
BEGIN:VEVENT
DTSTART;TZID=Europe/Helsinki:20260428T180000
DTEND;TZID=Europe/Helsinki:20260428T200000
DTSTAMP:20260422T091207
CREATED:20260331T091359Z
LAST-MODIFIED:20260331T092959Z
UID:4677-1777399200-1777406400@www.ylistaronhelluntaiseurakunta.fi
SUMMARY:Lähetysrukousilta
DESCRIPTION:Lähetysrukousilta klo 18 \nOsoitteessa: Viertolankuja 1\, Ylistaro. \nTervetuloa!
URL:https://www.ylistaronhelluntaiseurakunta.fi/tapahtuma/rukousilta-60/
LOCATION:Ylistaron Helluntaiseurakunta\, Viertolankuja 1\, 61400 Ylistaro\, Viertolankuja 1\, Seinäjoki
ORGANIZER;CN="Ylistaron Helluntaiseurakunta":MAILTO:info@ylistaronhelluntaiseurakunta.fi
END:VEVENT
BEGIN:VEVENT
DTSTART;TZID=Europe/Helsinki:20260430T180000
DTEND;TZID=Europe/Helsinki:20260430T200000
DTSTAMP:20260422T091207
CREATED:20260331T092034Z
LAST-MODIFIED:20260331T092034Z
UID:4679-1777572000-1777579200@www.ylistaronhelluntaiseurakunta.fi
SUMMARY:Rukouksen ja Sanan ilta
DESCRIPTION:Rukouksen ja Sanan ilta klo 18 \nViertolankuja 1\, 61400 Ylistaro \nTervetuloa!
URL:https://www.ylistaronhelluntaiseurakunta.fi/tapahtuma/rukouksen-ja-sanan-ilta-94/
LOCATION:Ylistaron Helluntaiseurakunta\, Viertolankuja 1\, 61400 Ylistaro\, Viertolankuja 1\, Seinäjoki
ORGANIZER;CN="Ylistaron Helluntaiseurakunta":MAILTO:info@ylistaronhelluntaiseurakunta.fi
END:VEVENT
BEGIN:VEVENT
DTSTART;TZID=Europe/Helsinki:20260501T110000
DTEND;TZID=Europe/Helsinki:20260501T120000
DTSTAMP:20260422T091207
CREATED:20260331T092202Z
LAST-MODIFIED:20260331T092202Z
UID:4681-1777633200-1777636800@www.ylistaronhelluntaiseurakunta.fi
SUMMARY:Ruokajako
DESCRIPTION:Ruokajako klo 11:00 – 12:00 \nOsoitteessa: Viertolankuja 1\, Ylistaro \nTervetuloa
URL:https://www.ylistaronhelluntaiseurakunta.fi/tapahtuma/ruokajako-53/
LOCATION:Ylistaron Helluntaiseurakunta\, Viertolankuja 1\, 61400 Ylistaro\, Viertolankuja 1\, Seinäjoki
ORGANIZER;CN="Ylistaron Helluntaiseurakunta":MAILTO:info@ylistaronhelluntaiseurakunta.fi
END:VEVENT
BEGIN:VEVENT
DTSTART;TZID=Europe/Helsinki:20260502T200000
DTEND;TZID=Europe/Helsinki:20260502T220000
DTSTAMP:20260422T091207
CREATED:20260331T092325Z
LAST-MODIFIED:20260331T092325Z
UID:4683-1777752000-1777759200@www.ylistaronhelluntaiseurakunta.fi
SUMMARY:Stage nuortenilta
DESCRIPTION:Stage nuortenilta klo 20 \nKaukolanraitti 7\, 61400 Ylistaro \nTervetuloa!
URL:https://www.ylistaronhelluntaiseurakunta.fi/tapahtuma/stage-nuortenilta-18/
LOCATION:Ylistaron Helluntaiseurakunta\, Viertolankuja 1\, 61400 Ylistaro\, Viertolankuja 1\, Seinäjoki
ORGANIZER;CN="Ylistaron Helluntaiseurakunta":MAILTO:info@ylistaronhelluntaiseurakunta.fi
END:VEVENT
BEGIN:VEVENT
DTSTART;TZID=Europe/Helsinki:20260503T120000
DTEND;TZID=Europe/Helsinki:20260503T140000
DTSTAMP:20260422T091207
CREATED:20260331T092543Z
LAST-MODIFIED:20260331T092543Z
UID:4685-1777809600-1777816800@www.ylistaronhelluntaiseurakunta.fi
SUMMARY:Ehtoollisjuhla
DESCRIPTION:Ehtoollisjuhla klo 12:00 \nPuhe: Martti Nyström \nJuonto: Kari Niemi \nOsoite: Viertolankuja 1\, 61400 Ylistaro \nTervetuloa!
URL:https://www.ylistaronhelluntaiseurakunta.fi/tapahtuma/ehtoollisjuhla-13/
LOCATION:Ylistaron Helluntaiseurakunta\, Viertolankuja 1\, 61400 Ylistaro\, Viertolankuja 1\, Seinäjoki
ORGANIZER;CN="Ylistaron Helluntaiseurakunta":MAILTO:info@ylistaronhelluntaiseurakunta.fi
END:VEVENT
END:VCALENDAR